BEGIN:VCALENDAR
VERSION:2.0
PRODID:-//eventon.com NONSGML v1.0//EN
CALSCALE:GREGORIAN
METHOD:PUBLISH
BEGIN:VEVENT
UID:69e5060344ac7
DTSTAMP:20260419T164243Z
DTSTART:20210721T100000Z
DTEND:20210724T100000Z
LOCATION:Gröbming Schladming Dachstein 8962 Gröbming
SUMMARY:29. Ennstal-Classic
DESCRIPTION:29. Ennstal-Classic\nhttps://www.oldtimerevents.at/events/29-en
 nstal-classic/
URL:https://www.oldtimerevents.at/events/29-ennstal-classic/
END:VEVENT
END:VCALENDAR