BEGIN:VCALENDAR
VERSION:2.0
PRODID:-//eventon.com NONSGML v1.0//EN
CALSCALE:GREGORIAN
METHOD:PUBLISH
BEGIN:VEVENT
UID:69e4e85b49a2c
DTSTAMP:20260419T143611Z
DTSTART:20210918T080000Z
DTEND:20210918T215000Z
LOCATION:9065 Ebenthal
SUMMARY:SMS Classic Sprint 2021
DESCRIPTION:SMS Classic Sprint 2021\nhttps://www.oldtimerevents.at/events/s
 ms-classic-sprint-2021/
URL:https://www.oldtimerevents.at/events/sms-classic-sprint-2021/
END:VEVENT
END:VCALENDAR