BEGIN:VCALENDAR
VERSION:2.0
PRODID:-//eventon.com NONSGML v1.0//EN
CALSCALE:GREGORIAN
METHOD:PUBLISH
BEGIN:VEVENT
UID:69e6d2a1c06a1
DTSTAMP:20260421T012801Z
DTSTART:20200627T083000Z
DTEND:20200627T200000Z
LOCATION:Lebenshilfe NÖ - Werkstätte 2295 Baumgarten an der March 2295 Baumgarten 67
SUMMARY:ABGESAGT! Oldtimertreffen und Mopedausfahrt 2020
DESCRIPTION:ABGESAGT! Oldtimertreffen und Mopedausfahrt 2020\nhttps://www.o
 ldtimerevents.at/events/oldtimertreffen-und-mopedausfahrt/
URL:https://www.oldtimerevents.at/events/oldtimertreffen-und-mopedausfahrt/
END:VEVENT
END:VCALENDAR